Package: Informeasure Version: 1.19.0 Command: /Library/Frameworks/R.framework/Resources/bin/R CMD INSTALL Informeasure StartedAt: 2025-10-06 15:01:25 -0400 (Mon, 06 Oct 2025) EndedAt: 2025-10-06 15:01:31 -0400 (Mon, 06 Oct 2025) EllapsedTime: 6.0 seconds RetCode: 0 Status: OK