Package: InTAD Version: 1.29.1 Command: /Library/Frameworks/R.framework/Resources/bin/R CMD INSTALL InTAD StartedAt: 2025-10-14 15:27:17 -0400 (Tue, 14 Oct 2025) EndedAt: 2025-10-14 15:28:08 -0400 (Tue, 14 Oct 2025) EllapsedTime: 51.6 seconds RetCode: 0 Status: OK