Package: InTAD Version: 1.29.1 Command: /Library/Frameworks/R.framework/Resources/bin/R CMD build --keep-empty-dirs --no-resave-data InTAD StartedAt: 2025-10-13 17:42:17 -0400 (Mon, 13 Oct 2025) EndedAt: 2025-10-13 17:43:39 -0400 (Mon, 13 Oct 2025) EllapsedTime: 82.5 seconds RetCode: 0 Status: OK PackageFile: InTAD_1.29.1.tar.gz PackageFileSize: 1.234 MiB