Package: InPAS Version: 2.17.1 Command: /home/biocbuild/R/R/bin/R CMD INSTALL InPAS StartedAt: 2025-10-09 21:53:04 -0000 (Thu, 09 Oct 2025) EndedAt: 2025-10-09 21:54:04 -0000 (Thu, 09 Oct 2025) EllapsedTime: 59.4 seconds RetCode: 0 Status: OK