Package: InPAS Version: 2.17.1 Command: /home/biocbuild/R/R/bin/R CMD build --keep-empty-dirs --no-resave-data InPAS StartedAt: 2025-10-10 01:28:36 -0000 (Fri, 10 Oct 2025) EndedAt: 2025-10-10 01:29:55 -0000 (Fri, 10 Oct 2025) EllapsedTime: 79.0 seconds RetCode: 1 Status: ERROR PackageFile: None PackageFileSize: NA