Package: IgGeneUsage Version: 1.25.0 Command: /home/biocbuild/bbs-3.23-bioc/R/bin/R CMD INSTALL IgGeneUsage StartedAt: 2025-11-02 15:30:34 -0500 (Sun, 02 Nov 2025) EndedAt: 2025-11-02 15:40:51 -0500 (Sun, 02 Nov 2025) EllapsedTime: 617.1 seconds RetCode: 0 Status: OK