Package: IgGeneUsage Version: 1.25.0 Command: /home/biocbuild/bbs-3.23-bioc/R/bin/R CMD build --keep-empty-dirs --no-resave-data IgGeneUsage StartedAt: 2025-11-03 18:03:47 -0500 (Mon, 03 Nov 2025) EndedAt: 2025-11-03 18:21:10 -0500 (Mon, 03 Nov 2025) EllapsedTime: 1043.2 seconds RetCode: 0 Status: OK PackageFile: IgGeneUsage_1.25.0.tar.gz PackageFileSize: 1.288 MiB