Package: IgGeneUsage Version: 1.23.0 Command: /Library/Frameworks/R.framework/Resources/bin/R CMD INSTALL IgGeneUsage StartedAt: 2025-10-01 15:25:00 -0400 (Wed, 01 Oct 2025) EndedAt: 2025-10-01 15:35:12 -0400 (Wed, 01 Oct 2025) EllapsedTime: 612.3 seconds RetCode: 0 Status: OK