Package: IgGeneUsage Version: 1.23.0 Command: /Library/Frameworks/R.framework/Resources/bin/R CMD build --keep-empty-dirs --no-resave-data IgGeneUsage StartedAt: 2025-10-01 17:24:19 -0400 (Wed, 01 Oct 2025) EndedAt: 2025-10-01 17:42:50 -0400 (Wed, 01 Oct 2025) EllapsedTime: 1111.0 seconds RetCode: 0 Status: OK PackageFile: IgGeneUsage_1.23.0.tar.gz PackageFileSize: 1.208 MiB