Package: IgGeneUsage Version: 1.23.0 Command: rm -rf IgGeneUsage.buildbin-libdir && mkdir IgGeneUsage.buildbin-libdir && /Users/biocbuild/BBS/utils/build-universal.sh IgGeneUsage_1.23.0.tar.gz /Library/Frameworks/R.framework/Resources/bin/R IgGeneUsage.buildbin-libdir StartedAt: 2025-10-02 01:55:41 -0400 (Thu, 02 Oct 2025) EndedAt: 2025-10-02 02:06:39 -0400 (Thu, 02 Oct 2025) EllapsedTime: 658.3 seconds RetCode: 0 Status: OK PackageFile: IgGeneUsage_1.23.0.tgz PackageFileSize: 3.273 MiB