Package: IdeoViz Version: 1.45.0 Command: /Library/Frameworks/R.framework/Resources/bin/R CMD INSTALL IdeoViz StartedAt: 2025-10-17 15:17:46 -0400 (Fri, 17 Oct 2025) EndedAt: 2025-10-17 15:17:57 -0400 (Fri, 17 Oct 2025) EllapsedTime: 11.8 seconds RetCode: 0 Status: OK