Package: IdeoViz Version: 1.45.0 Command: /Library/Frameworks/R.framework/Resources/bin/R CMD build --keep-empty-dirs --no-resave-data IdeoViz StartedAt: 2025-10-16 16:56:05 -0400 (Thu, 16 Oct 2025) EndedAt: 2025-10-16 16:56:06 -0400 (Thu, 16 Oct 2025) EllapsedTime: 1.0 seconds RetCode: 0 Status: OK PackageFile: IdeoViz_1.45.0.tar.gz PackageFileSize: 411.8 KiB