Package: IdeoViz Version: 1.45.0 Command: rm -rf IdeoViz.buildbin-libdir && mkdir IdeoViz.buildbin-libdir && /Users/biocbuild/BBS/utils/build-universal.sh IdeoViz_1.45.0.tar.gz /Library/Frameworks/R.framework/Resources/bin/R IdeoViz.buildbin-libdir StartedAt: 2025-10-16 23:04:49 -0400 (Thu, 16 Oct 2025) EndedAt: 2025-10-16 23:05:03 -0400 (Thu, 16 Oct 2025) EllapsedTime: 13.3 seconds RetCode: 0 Status: OK PackageFile: IdeoViz_1.45.0.tgz PackageFileSize: 450.4 KiB