Package: Icens Version: 1.83.0 Command: /Library/Frameworks/R.framework/Resources/bin/R CMD build --keep-empty-dirs --no-resave-data Icens StartedAt: 2025-11-20 17:23:07 -0500 (Thu, 20 Nov 2025) EndedAt: 2025-11-20 17:23:09 -0500 (Thu, 20 Nov 2025) EllapsedTime: 2.3 seconds RetCode: 0 Status: OK PackageFile: Icens_1.83.0.tar.gz PackageFileSize: 20.82 KiB