Package: Icens Version: 1.83.0 Command: rm -rf Icens.buildbin-libdir && mkdir Icens.buildbin-libdir && /Users/biocbuild/BBS/utils/build-universal.sh Icens_1.83.0.tar.gz /Library/Frameworks/R.framework/Resources/bin/R Icens.buildbin-libdir StartedAt: 2025-11-21 01:38:39 -0500 (Fri, 21 Nov 2025) EndedAt: 2025-11-21 01:38:54 -0500 (Fri, 21 Nov 2025) EllapsedTime: 15.0 seconds RetCode: 0 Status: OK PackageFile: Icens_1.83.0.tgz PackageFileSize: 110.1 KiB