Package: Icens Version: 1.83.0 Command: /Library/Frameworks/R.framework/Resources/bin/R CMD INSTALL Icens StartedAt: 2025-11-20 15:06:30 -0500 (Thu, 20 Nov 2025) EndedAt: 2025-11-20 15:06:33 -0500 (Thu, 20 Nov 2025) EllapsedTime: 3.2 seconds RetCode: 0 Status: OK