Package: Ibex Version: 0.99.33 Command: /Library/Frameworks/R.framework/Resources/bin/R CMD INSTALL Ibex StartedAt: 2025-10-16 15:53:22 -0400 (Thu, 16 Oct 2025) EndedAt: 2025-10-16 15:54:08 -0400 (Thu, 16 Oct 2025) EllapsedTime: 46.0 seconds RetCode: 0 Status: OK