Package: Ibex Version: 0.99.33 Command: /Library/Frameworks/R.framework/Resources/bin/R CMD build --keep-empty-dirs --no-resave-data Ibex StartedAt: 2025-10-16 18:05:49 -0400 (Thu, 16 Oct 2025) EndedAt: 2025-10-16 18:08:43 -0400 (Thu, 16 Oct 2025) EllapsedTime: 173.7 seconds RetCode: 1 Status: ERROR PackageFile: None PackageFileSize: NA