Package: Ibex Version: 0.99.32 Command: /Library/Frameworks/R.framework/Resources/bin/R CMD INSTALL Ibex StartedAt: 2025-10-15 15:15:42 -0400 (Wed, 15 Oct 2025) EndedAt: 2025-10-15 15:15:54 -0400 (Wed, 15 Oct 2025) EllapsedTime: 12.6 seconds RetCode: 0 Status: OK