Package: Ibex Version: 0.99.32 Command: /Library/Frameworks/R.framework/Resources/bin/R CMD build --keep-empty-dirs --no-resave-data Ibex StartedAt: 2025-10-15 16:43:17 -0400 (Wed, 15 Oct 2025) EndedAt: 2025-10-15 17:23:18 -0400 (Wed, 15 Oct 2025) EllapsedTime: 2400.8 seconds RetCode: None Status: TIMEOUT PackageFile: None PackageFileSize: NA