Package: Ibex Version: 0.99.31 Command: rm -rf Ibex.buildbin-libdir && mkdir Ibex.buildbin-libdir && /Users/biocbuild/BBS/utils/build-universal.sh Ibex_0.99.31.tar.gz /Library/Frameworks/R.framework/Resources/bin/R Ibex.buildbin-libdir StartedAt: 2025-10-13 22:45:47 -0400 (Mon, 13 Oct 2025) EndedAt: 2025-10-13 22:46:01 -0400 (Mon, 13 Oct 2025) EllapsedTime: 14.4 seconds RetCode: 0 Status: OK PackageFile: Ibex_0.99.31.tgz PackageFileSize: 1.224 MiB