Package: Ibex Version: 0.99.31 Maintainer: Nick Borcherding MaintainerEmail: ncborch at gmail.com git_url: https://git.bioconductor.org/packages/Ibex git_branch: devel git_last_commit: cd6ffd6 git_last_commit_date: 2025-09-23 14:58:00 -0400 (Tue, 23 Sep 2025)