Package: IWTomics Version: 1.35.0 Command: /home/biocbuild/bbs-3.23-bioc/R/bin/R CMD INSTALL IWTomics StartedAt: 2025-11-20 15:30:24 -0500 (Thu, 20 Nov 2025) EndedAt: 2025-11-20 15:30:39 -0500 (Thu, 20 Nov 2025) EllapsedTime: 15.5 seconds RetCode: 0 Status: OK