Package: IWTomics Version: 1.35.0 Command: /home/biocbuild/bbs-3.23-bioc/R/bin/R CMD build --keep-empty-dirs --no-resave-data IWTomics StartedAt: 2025-11-20 18:17:26 -0500 (Thu, 20 Nov 2025) EndedAt: 2025-11-20 18:19:06 -0500 (Thu, 20 Nov 2025) EllapsedTime: 100.1 seconds RetCode: 0 Status: OK PackageFile: IWTomics_1.35.0.tar.gz PackageFileSize: 1.404 MiB