Package: IWTomics Version: 1.35.0 Command: /Library/Frameworks/R.framework/Resources/bin/R CMD INSTALL IWTomics StartedAt: 2025-11-18 15:22:16 -0500 (Tue, 18 Nov 2025) EndedAt: 2025-11-18 15:22:38 -0500 (Tue, 18 Nov 2025) EllapsedTime: 22.5 seconds RetCode: 0 Status: OK