Package: IWTomics Version: 1.35.0 Command: /Library/Frameworks/R.framework/Resources/bin/R CMD build --keep-empty-dirs --no-resave-data IWTomics StartedAt: 2025-11-17 17:40:32 -0500 (Mon, 17 Nov 2025) EndedAt: 2025-11-17 17:42:39 -0500 (Mon, 17 Nov 2025) EllapsedTime: 127.0 seconds RetCode: 0 Status: OK PackageFile: IWTomics_1.35.0.tar.gz PackageFileSize: 1.391 MiB