Package: IWTomics Version: 1.35.0 Command: rm -rf IWTomics.buildbin-libdir && mkdir IWTomics.buildbin-libdir && /Users/biocbuild/BBS/utils/build-universal.sh IWTomics_1.35.0.tar.gz /Library/Frameworks/R.framework/Resources/bin/R IWTomics.buildbin-libdir StartedAt: 2025-11-20 01:39:26 -0500 (Thu, 20 Nov 2025) EndedAt: 2025-11-20 01:39:52 -0500 (Thu, 20 Nov 2025) EllapsedTime: 25.5 seconds RetCode: 0 Status: OK PackageFile: IWTomics_1.35.0.tgz PackageFileSize: 1.768 MiB