Package: IWTomics Version: 1.33.0 Command: /Library/Frameworks/R.framework/Resources/bin/R CMD INSTALL IWTomics StartedAt: 2025-10-23 15:11:22 -0400 (Thu, 23 Oct 2025) EndedAt: 2025-10-23 15:11:29 -0400 (Thu, 23 Oct 2025) EllapsedTime: 6.3 seconds RetCode: 0 Status: OK