Package: IWTomics Version: 1.33.0 Command: /Library/Frameworks/R.framework/Resources/bin/R CMD build --keep-empty-dirs --no-resave-data IWTomics StartedAt: 2025-10-23 16:51:20 -0400 (Thu, 23 Oct 2025) EndedAt: 2025-10-23 16:51:59 -0400 (Thu, 23 Oct 2025) EllapsedTime: 39.5 seconds RetCode: 0 Status: OK PackageFile: IWTomics_1.33.0.tar.gz PackageFileSize: 1.405 MiB