Package: IVAS Version: 2.31.0 Command: /home/biocbuild/bbs-3.23-bioc/R/bin/R CMD INSTALL IVAS StartedAt: 2025-11-20 15:44:47 -0500 (Thu, 20 Nov 2025) EndedAt: 2025-11-20 15:45:28 -0500 (Thu, 20 Nov 2025) EllapsedTime: 41.1 seconds RetCode: 0 Status: OK