Package: IVAS Version: 2.29.1 Command: /Library/Frameworks/R.framework/Resources/bin/R CMD INSTALL IVAS StartedAt: 2025-10-21 15:41:31 -0400 (Tue, 21 Oct 2025) EndedAt: 2025-10-21 15:42:27 -0400 (Tue, 21 Oct 2025) EllapsedTime: 56.2 seconds RetCode: 0 Status: OK