Package: IVAS Version: 2.29.1 Command: /Library/Frameworks/R.framework/Resources/bin/R CMD build --keep-empty-dirs --no-resave-data IVAS StartedAt: 2025-10-21 17:50:57 -0400 (Tue, 21 Oct 2025) EndedAt: 2025-10-21 17:52:41 -0400 (Tue, 21 Oct 2025) EllapsedTime: 104.2 seconds RetCode: 0 Status: OK PackageFile: IVAS_2.29.1.tar.gz PackageFileSize: 252.2 KiB