Package: IVAS Version: 2.29.1 Command: rm -rf IVAS.buildbin-libdir && mkdir IVAS.buildbin-libdir && /Users/biocbuild/BBS/utils/build-universal.sh IVAS_2.29.1.tar.gz /Library/Frameworks/R.framework/Resources/bin/R IVAS.buildbin-libdir StartedAt: 2025-10-21 03:18:20 -0400 (Tue, 21 Oct 2025) EndedAt: 2025-10-21 03:19:20 -0400 (Tue, 21 Oct 2025) EllapsedTime: 60.0 seconds RetCode: 0 Status: OK PackageFile: IVAS_2.29.1.tgz PackageFileSize: 681.8 KiB