Package: IVAS Version: 2.29.1 Command: /Library/Frameworks/R.framework/Resources/bin/R CMD build --keep-empty-dirs --no-resave-data IVAS StartedAt: 2025-10-12 16:46:48 -0400 (Sun, 12 Oct 2025) EndedAt: 2025-10-12 16:47:16 -0400 (Sun, 12 Oct 2025) EllapsedTime: 28.3 seconds RetCode: 0 Status: OK PackageFile: IVAS_2.29.1.tar.gz PackageFileSize: 252.6 KiB