Package: IVAS Version: 2.29.1 Command: rm -rf IVAS.buildbin-libdir && mkdir IVAS.buildbin-libdir && /Users/biocbuild/BBS/utils/build-universal.sh IVAS_2.29.1.tar.gz /Library/Frameworks/R.framework/Resources/bin/R IVAS.buildbin-libdir StartedAt: 2025-10-12 22:41:33 -0400 (Sun, 12 Oct 2025) EndedAt: 2025-10-12 22:41:51 -0400 (Sun, 12 Oct 2025) EllapsedTime: 17.3 seconds RetCode: 0 Status: OK PackageFile: IVAS_2.29.1.tgz PackageFileSize: 682.6 KiB