Package: ITALICS Version: 2.69.0 Command: /home/biocbuild/R/R/bin/R CMD INSTALL ITALICS StartedAt: 2025-10-16 22:24:25 -0000 (Thu, 16 Oct 2025) EndedAt: 2025-10-16 22:24:59 -0000 (Thu, 16 Oct 2025) EllapsedTime: 33.7 seconds RetCode: 0 Status: OK