Package: ITALICS Version: 2.69.0 Command: /home/biocbuild/bbs-3.22-bioc/R/bin/R CMD check --install=check:ITALICS.install-out.txt --library=/home/biocbuild/bbs-3.22-bioc/R/site-library --timings ITALICS_2.69.0.tar.gz StartedAt: 2025-10-01 00:57:51 -0400 (Wed, 01 Oct 2025) EndedAt: 2025-10-01 01:01:27 -0400 (Wed, 01 Oct 2025) EllapsedTime: 215.2 seconds RetCode: 0 Status: OK CheckDir: ITALICS.Rcheck Warnings: 0