Package: ITALICS Version: 2.71.0 Command: /home/biocbuild/bbs-3.23-bioc/R/bin/R CMD build --keep-empty-dirs --no-resave-data ITALICS StartedAt: 2025-11-07 18:13:46 -0500 (Fri, 07 Nov 2025) EndedAt: 2025-11-07 18:14:41 -0500 (Fri, 07 Nov 2025) EllapsedTime: 55.1 seconds RetCode: 0 Status: OK PackageFile: ITALICS_2.71.0.tar.gz PackageFileSize: 615.5 KiB