Package: ISLET Version: 1.13.0 Command: /home/biocbuild/bbs-3.23-bioc/R/bin/R CMD build --keep-empty-dirs --no-resave-data ISLET StartedAt: 2025-11-05 18:19:04 -0500 (Wed, 05 Nov 2025) EndedAt: 2025-11-05 18:22:34 -0500 (Wed, 05 Nov 2025) EllapsedTime: 210.3 seconds RetCode: 0 Status: OK PackageFile: ISLET_1.13.0.tar.gz PackageFileSize: 2.185 MiB