Package: ISLET Version: 1.11.0 Command: /Library/Frameworks/R.framework/Resources/bin/R CMD INSTALL ISLET StartedAt: 2025-10-06 15:12:41 -0400 (Mon, 06 Oct 2025) EndedAt: 2025-10-06 15:12:51 -0400 (Mon, 06 Oct 2025) EllapsedTime: 10.6 seconds RetCode: 0 Status: OK