Package: ISLET Version: 1.11.0 Command: /Library/Frameworks/R.framework/Resources/bin/R CMD build --keep-empty-dirs --no-resave-data ISLET StartedAt: 2025-10-06 16:49:22 -0400 (Mon, 06 Oct 2025) EndedAt: 2025-10-06 16:50:34 -0400 (Mon, 06 Oct 2025) EllapsedTime: 71.8 seconds RetCode: 0 Status: OK PackageFile: ISLET_1.11.0.tar.gz PackageFileSize: 2.185 MiB