Package: ISAnalytics Version: 1.19.3 Command: /home/biocbuild/R/R/bin/R CMD INSTALL ISAnalytics StartedAt: 2025-09-29 20:39:25 -0000 (Mon, 29 Sep 2025) EndedAt: 2025-09-29 20:39:57 -0000 (Mon, 29 Sep 2025) EllapsedTime: 31.7 seconds RetCode: 0 Status: OK