Package: ISAnalytics Version: 1.21.0 Command: /home/biocbuild/bbs-3.23-bioc/R/bin/R CMD build --keep-empty-dirs --no-resave-data ISAnalytics StartedAt: 2025-10-31 18:24:51 -0400 (Fri, 31 Oct 2025) EndedAt: 2025-10-31 18:26:32 -0400 (Fri, 31 Oct 2025) EllapsedTime: 101.1 seconds RetCode: 0 Status: OK PackageFile: ISAnalytics_1.21.0.tar.gz PackageFileSize: 8.776 MiB