Package: IRanges Version: 2.45.0 Command: /home/biocbuild/bbs-3.23-bioc/R/bin/R CMD INSTALL IRanges StartedAt: 2025-11-20 15:12:45 -0500 (Thu, 20 Nov 2025) EndedAt: 2025-11-20 15:13:41 -0500 (Thu, 20 Nov 2025) EllapsedTime: 56.0 seconds RetCode: 0 Status: OK