Package: IRanges Version: 2.45.0 Command: /home/biocbuild/bbs-3.23-bioc/R/bin/R CMD build --keep-empty-dirs --no-resave-data IRanges StartedAt: 2025-11-20 18:14:49 -0500 (Thu, 20 Nov 2025) EndedAt: 2025-11-20 18:15:59 -0500 (Thu, 20 Nov 2025) EllapsedTime: 70.1 seconds RetCode: 0 Status: OK PackageFile: IRanges_2.45.0.tar.gz PackageFileSize: 479.1 KiB