Package: IRanges Version: 2.43.5 Command: /Library/Frameworks/R.framework/Resources/bin/R CMD build --keep-empty-dirs --no-resave-data IRanges StartedAt: 2025-10-03 16:47:39 -0400 (Fri, 03 Oct 2025) EndedAt: 2025-10-03 16:48:09 -0400 (Fri, 03 Oct 2025) EllapsedTime: 30.3 seconds RetCode: 0 Status: OK PackageFile: IRanges_2.43.5.tar.gz PackageFileSize: 474.5 KiB