Package: IRanges Version: 2.43.5 Command: rm -rf IRanges.buildbin-libdir && mkdir IRanges.buildbin-libdir && /Users/biocbuild/BBS/utils/build-universal.sh IRanges_2.43.5.tar.gz /Library/Frameworks/R.framework/Resources/bin/R IRanges.buildbin-libdir StartedAt: 2025-10-03 22:43:19 -0400 (Fri, 03 Oct 2025) EndedAt: 2025-10-03 22:43:44 -0400 (Fri, 03 Oct 2025) EllapsedTime: 25.5 seconds RetCode: 0 Status: OK PackageFile: IRanges_2.43.5.tgz PackageFileSize: 2.241 MiB