Package: IRanges Version: 2.45.0 Maintainer: Hervé Pagès MaintainerEmail: hpages.on.github at gmail.com git_url: https://git.bioconductor.org/packages/IRanges git_branch: devel git_last_commit: 167f22b git_last_commit_date: 2025-10-29 14:51:39 -0400 (Wed, 29 Oct 2025)