Package: IPO Version: 1.37.0 Command: /home/biocbuild/bbs-3.23-bioc/R/bin/R CMD INSTALL IPO StartedAt: 2025-11-20 15:42:50 -0500 (Thu, 20 Nov 2025) EndedAt: 2025-11-20 15:43:37 -0500 (Thu, 20 Nov 2025) EllapsedTime: 46.5 seconds RetCode: 0 Status: OK