Package: IPO Version: 1.37.0 Command: /home/biocbuild/bbs-3.23-bioc/R/bin/R CMD build --keep-empty-dirs --no-resave-data IPO StartedAt: 2025-11-20 18:14:48 -0500 (Thu, 20 Nov 2025) EndedAt: 2025-11-20 18:31:32 -0500 (Thu, 20 Nov 2025) EllapsedTime: 1004.3 seconds RetCode: 0 Status: OK PackageFile: IPO_1.37.0.tar.gz PackageFileSize: 768 KiB